BEGIN:VCALENDAR
VERSION:2.0
PRODID:-//Kürrenberg - Das Höchste von Mayen - ECPv6.15.20//NONSGML v1.0//EN
CALSCALE:GREGORIAN
METHOD:PUBLISH
X-WR-CALNAME:Kürrenberg - Das Höchste von Mayen
X-ORIGINAL-URL:https://kuerrenberg.info
X-WR-CALDESC:Veranstaltungen für Kürrenberg - Das Höchste von Mayen
REFRESH-INTERVAL;VALUE=DURATION:PT1H
X-Robots-Tag:noindex
X-PUBLISHED-TTL:PT1H
BEGIN:VTIMEZONE
TZID:UTC
BEGIN:STANDARD
TZOFFSETFROM:+0000
TZOFFSETTO:+0000
TZNAME:UTC
DTSTART:20250101T000000
END:STANDARD
END:VTIMEZONE
BEGIN:VEVENT
DTSTART;TZID=UTC:20260424T191100
DTEND;TZID=UTC:20260424T230000
DTSTAMP:20260424T013637
CREATED:20260221T162109Z
LAST-MODIFIED:20260417T072359Z
UID:10000680-1777057860-1777071600@kuerrenberg.info
SUMMARY:Jahreshauptversammlung Kürrenberger Karnevals Verein e.V.
DESCRIPTION:
URL:https://kuerrenberg.info/event/jahreshauptversammlung-kuerrenberger-karnevals-verein-e-v
LOCATION:Bürgerhaus Kürrenberg\, Hauptstraße 30\, Kürrenberg\, Rheinland-Pfalz\, 56727\, Deutschland
ATTACH;FMTTYPE=image/jpeg:https://kuerrenberg.info/wp-content/uploads/2026/02/kkv-logo.jpg
ORGANIZER;CN="K%C3%BCrrenberger Karnevalsverein":MAILTO:info@kv-kuerrenberg.de
END:VEVENT
END:VCALENDAR